BEGIN:VCALENDAR
VERSION:2.0
CALSCALE:GREGORIAN
PRODID:-//MyApp//Calendar 1.0//EN
BEGIN:VEVENT
METHOD:PUBLISH
UID:65873@regionalniportaly.cz
DTSTAMP:20260424T122055Z
DTSTART;VALUE=DATE:20260611
DTEND;VALUE=DATE:20260612
SUMMARY:Vzpomínky
DESCRIPTION:Vzpomínkový koncert na Karla Černocha\, Karla Gotta\, Jiřího Schelingera\, Pavla Nováka&nbsp\;a dalších světových skladeb&nbsp\;www.youtube.com/@danieldankovsky5822
LOCATION:Bystřice
END:VEVENT
END:VCALENDAR