BEGIN:VCALENDAR
VERSION:2.0
CALSCALE:GREGORIAN
PRODID:-//MyApp//Calendar 1.0//EN
BEGIN:VEVENT
METHOD:PUBLISH
UID:65844@regionalniportaly.cz
DTSTAMP:20260424T111820Z
DTSTART;VALUE=DATE:20260619
DTEND;VALUE=DATE:20260620
SUMMARY:Broky Františka Kanečka Krásná Hora nad Vltavou
DESCRIPTION:Večírek s největšími hity soc-pop-rocku v podání kovaných profesionálů\, na kterém si každý může zazpívat spolu s nimi!
LOCATION:Krásná Hora nad Vltavou
END:VEVENT
END:VCALENDAR