BEGIN:VCALENDAR
VERSION:2.0
CALSCALE:GREGORIAN
PRODID:-//MyApp//Calendar 1.0//EN
BEGIN:VEVENT
METHOD:PUBLISH
UID:65791@regionalniportaly.cz
DTSTAMP:20260422T053238Z
DTSTART;VALUE=DATE:20260424
DTEND;VALUE=DATE:20260425
SUMMARY:Povídání o Svatém Jiřím o dracích a drakobijcích
DESCRIPTION:Zveme všechny nositele a&nbsp\;obdivovatele jména Jiří na povídání o&nbsp\;patronovi rytířů ale i&nbsp\;skautů...Po přednášce prohlídka filmové zbrojnice.
LOCATION:Tábor
END:VEVENT
END:VCALENDAR