BEGIN:VCALENDAR
VERSION:2.0
CALSCALE:GREGORIAN
PRODID:-//MyApp//Calendar 1.0//EN
BEGIN:VEVENT
METHOD:PUBLISH
UID:65730@regionalniportaly.cz
DTSTAMP:20260421T204036Z
DTSTART;VALUE=DATE:20260808
DTEND;VALUE=DATE:20260809
SUMMARY:Krásnohorské léto 2026
DESCRIPTION: KRÁSNOHORSKÉ LÉTO 2026    Kdy: pátek 7.8. - sobota 8. 8. 2026  Kde: náměstí a hřištěČeká vás zajímavý program pro všechny generace    Páteční doprovodný program (7. 8.):  výstava v muzeu  degustace vín na dvoře městského úřadu\n  Sobota 8. 8. 2026  Jarmark na náměstí (8:00 – 12:00)  Odpolední program na hřišti14:00 - 16:00 fotbalová utkání16:00 slavnostní zahájení16:15 vystoupení dětí (Kamýček)16:30 exhibice strongman – Jiří Tkadlčík  Hudební program:17:30 Wabi Daněk Revival19:00 ABRAXAS21:00 WOHNOUT22:30 MIDI
LOCATION:Kosova Hora
END:VEVENT
END:VCALENDAR