BEGIN:VCALENDAR
VERSION:2.0
CALSCALE:GREGORIAN
PRODID:-//MyApp//Calendar 1.0//EN
BEGIN:VEVENT
METHOD:PUBLISH
UID:65620@regionalniportaly.cz
DTSTAMP:20260422T012951Z
DTSTART;VALUE=DATE:20260502
DTEND;VALUE=DATE:20260503
SUMMARY:Keltský svátek Beltain
DESCRIPTION:Každým rokem si oslavami na&nbsp\;Housově mlýně&nbsp\;připomínáme&nbsp\;keltský svátek Beltain. Tento svátek je spojen s&nbsp\;plodností\, vyháněním dobytka na pastvu a&nbsp\;ohňovými rituály\, které očišťují lidi i&nbsp\;zvířata od&nbsp\;všeho zlého. Zapalováním ohňů skládají lidé hold slunečnímu božstvu a&nbsp\;snaží se&nbsp\;umocnit jejich magickou moc pomocí obětin vhazovaných do&nbsp\;plamenů. Žádají o&nbsp\;přízeň\, snaží se&nbsp\;vstřebat ochranný a&nbsp\;očistný aspekt ohně.Program oslav započne v&nbsp\;18 hodin.Těšit se&nbsp\;můžete na filmové bojovnice\, vyprávění irských příběhů\, příběhy filmové zbrojnice\, rituál ohně a&nbsp\;speciální keltské menu.Občerstvit se&nbsp\;budete moci po&nbsp\;celý večer v&nbsp\;krčmě Housova mlýna.Vrcholem večera bude tradiční ohňový rituál přání.
LOCATION:Tábor
END:VEVENT
END:VCALENDAR