BEGIN:VCALENDAR
VERSION:2.0
CALSCALE:GREGORIAN
PRODID:-//MyApp//Calendar 1.0//EN
BEGIN:VEVENT
METHOD:PUBLISH
UID:64293@regionalniportaly.cz
DTSTAMP:20260422T000421Z
DTSTART;VALUE=DATE:20260418
DTEND;VALUE=DATE:20260419
SUMMARY:Archanděl Slunce a smysl současnosti - RNDr. Emil Páleš
DESCRIPTION:Srdečně Vás zveme na přednášku pana RNDr. Emila Páleše na téma Archanděl Slunce a smysl současnosti. Pojďme za dobrodružstvím poznání.  Poznejme sebe samých a poznáme svět.  Zapalme v sobě obětavou vůli a vyvede nás jako zlatá Ariadnina nit z labyrintu nesvobody.
LOCATION:Tábor
END:VEVENT
END:VCALENDAR