BEGIN:VCALENDAR
VERSION:2.0
CALSCALE:GREGORIAN
PRODID:-//MyApp//Calendar 1.0//EN
BEGIN:VEVENT
METHOD:PUBLISH
UID:62383@regionalniportaly.cz
DTSTAMP:20260422T004006Z
DTSTART;VALUE=DATE:20260221
DTEND;VALUE=DATE:20260222
SUMMARY:Hudební a filmový večer vol.II
DESCRIPTION:Hudební a filmový večer🎬🔥 Tábor ladí filmem &amp\; Hudební krbFilmové příběhy a hudba u ohněDatum:&nbsp\;21.2.2026 pátekMísto:&nbsp\;Housův mlýn v TábořeJedinečný večer\, který propojuje svět velkého filmu\, autentické filmové rekvizity a živou hudbu v komorní atmosféře u krbu.Harmonogram večera18:30–19:30 | Tábor ladí filmem🎥 filmová přednáška19:45 | Prohlídka filmové zbrojnice🛡 komentovaná prohlídka20:30 | Hudební krb🔥 živé hudební vystoupení u krbuPROGRAM🎬&nbsp\;Tábor ladí filmemHost: Jan Potměšil – herecJan Potměšil patří mezi respektované české herce s bohatou divadelní a filmovou kariérou. Svou profesionalitou a přístupem inspiruje nejen kolegy\, ale i publikum.🔹&nbsp\;Proč přijít?Protože uslyšíte příběhy ze zákulisí českého filmu\, osobní zkušenosti z natáčení a unikátní pohled herce na filmové postavy a scénáře\, které běžně veřejnost neslyší.🛡&nbsp\;Prohlídka filmové zbrojniceKomentovaná prohlídka unikátní filmové zbrojnice s rekvizitami a zbraněmi používanými ve filmech.Autentický prostor\, skutečné předměty a příběhy\, které propojují filmovou teorii s realitou natáčení.🔥&nbsp\;Hudební krbHost: Jirka Smrž – zpěvákJirka Smrž je charismatický český zpěvák a hudebník\, který svým hlasem a energií vytváří nezapomenutelnou atmosféru. Jeho hudba kombinuje prvky folku\, jazzu a moderního songwritingu.🔹&nbsp\;Proč přijít?Protože Hudební krb není běžný koncert.Je to intimní hudební set u ohně\, prostor ke zpomalení\, k poslechu a k doznění celého večera plného filmových příběhů.Jeden večer. Dvě silné části. Jeden zážitek.🎟 Jedna vstupenka zahrnuje celý program večera.🎟 V předprodeji jsou vstupenky výhodnější.🎟 Děti do 12 let mají vstup zdarma.👉 Doporučujeme koupit vstupenky včas.&nbsp\;
LOCATION:Tábor
END:VEVENT
END:VCALENDAR