BEGIN:VCALENDAR
VERSION:2.0
CALSCALE:GREGORIAN
PRODID:-//MyApp//Calendar 1.0//EN
BEGIN:VEVENT
METHOD:PUBLISH
UID:61916@regionalniportaly.cz
DTSTAMP:20260421T223521Z
DTSTART;VALUE=DATE:20260411
DTEND;VALUE=DATE:20260412
SUMMARY:Hovory ze země naživo
DESCRIPTION:Setkání a povídání se Štěpánem a Melanie Mějkovými proběhne v duchu&nbsp\;bylinkaření\, detoxikaci organismu\, psychické rovnováze\, dentosofii o tom jak vidí svět.&nbsp\;Popovídáme si&nbsp\;společně o&nbsp\;jejich cestě\, která může druhé inspirovat.Jako další host&nbsp\;bude přítomen Dominik Mrvík se kterým se podíváme&nbsp\;více do hloubky naší&nbsp\;společnosti\, ve které žijeme a jakými mechanismy se řídí. O symbolismu a o tom proč mu věnovat důležitou pozoronost. Nebude chybět ani téma toho\, jak vnímá svět ve kterém žije a jak je historie záměrným způsobem manipulována.&nbsp\;Během tohoto setkání si spolu i zazpíváme a zahrajeme .O&nbsp\;hudební kulisu se postará Marek Jelínek a Matěj Šťastko. Těšíme se.&nbsp\;
LOCATION:Tábor
END:VEVENT
END:VCALENDAR