BEGIN:VCALENDAR
VERSION:2.0
CALSCALE:GREGORIAN
PRODID:-//MyApp//Calendar 1.0//EN
BEGIN:VEVENT
METHOD:PUBLISH
UID:61627@regionalniportaly.cz
DTSTAMP:20260421T223447Z
DTSTART;VALUE=DATE:20260117
DTEND;VALUE=DATE:20260118
SUMMARY:Hudební filmový večer
DESCRIPTION:Tábor ladí filmem &amp\; Hudební krbFilmové příběhy a hudba u ohněDatum:&nbsp\;17.1.2026&nbsp\;Místo:&nbsp\;Housův mlýn v TábořeJedinečný večer\, který propojuje&nbsp\;svět velkého filmu\, autentické filmové rekvizity a živou hudbu v komorní atmosféře u krbu.Harmonogram večera18:30–19:30 | Tábor ladí filmem&nbsp\;filmová přednáška19:45 | Prohlídka filmové zbrojnicekomentovaná prohlídka20:30 | Hudební krbživé hudební vystoupení u krbuPROGRAMTábor ladí filmemHost: Miroslav&nbsp\;Lux – první asistent režie (1st AD)Miroslav&nbsp\;Lux patří mezi&nbsp\;klíčové osobnosti filmového zákulisí. Jako první asistent režie je pravou rukou režiséra a zodpovídá za řízení natáčecího dne\, koordinaci herců\, štábu\, techniky i kaskadérů. Bez této profese by žádný velkofilm nemohl vzniknout.Podílel se na natáčení řady světových produkcí\, mimo jiné:Amadeus&nbsp\;(natáčení v Čechách)Mission: ImpossibleThe Bourne IdentityCasino RoyaleProč přijít?Protože uslyšíte&nbsp\;příběhy z hollywoodských velkofilmů natáčených u nás\, které se běžně nikde nevyprávějí. Zákulisí natáčení\, reálné situace z placu\, lidské i profesní momenty\, které se do titulků nevejdou.Součástí těchto filmových projektů byl také&nbsp\;Petr Nůsek a agentura ARGO\, kteří se podíleli na tvorbě akčních scén a filmového násilí – i tento pohled do filmového zákulisí večer nabídne.🛡 Prohlídka filmové zbrojniceKomentovaná prohlídka unikátní filmové zbrojnice s rekvizitami a zbraněmi používanými ve filmech.Autentický prostor\, skutečné předměty a příběhy\, které propojují filmovou teorii s realitou natáčení.Hudební krbHost: Vladimír VáclavekVladimír Václavek je výrazná osobnost české hudební scény\, hudebník\, skladatel\, zpěvák a autor textů. V osmdesátých letech působil jako kytarista a baskytarista&nbsp\;legendární kapely Dunaj\, později se vydal na bohatou sólovou dráhu.Jeho tvorba se pohybuje na pomezí&nbsp\;alternativního rocku a world music\, často v meditativních polohách\, které vyniknou v tichu a komorním prostoru.🔹&nbsp\;Proč přijít?Protože Hudební krb není běžný koncert.Je to&nbsp\;intimní hudební set u ohně\, prostor ke zpomalení\, k poslechu a k doznění celého večera plného filmových příběhů.Jeden večer. Dvě silné části. Jeden zážitek.🎟 Jedna vstupenka zahrnuje celý program večera.🎟 V předprodeji jsou vstupenky výhodnější.🎟 Kapacita je omezená.Doporučujeme koupit vstupenky včas.&nbsp\;Vstupné pro jednu osobu na celý večer je 250kč v předprodeji.&nbsp\;Na místě bude vstupenka za 300kč.Děti do 12 let mají vstup ZDARMA.&nbsp\;
LOCATION:Tábor
END:VEVENT
END:VCALENDAR