BEGIN:VCALENDAR
VERSION:2.0
CALSCALE:GREGORIAN
PRODID:-//MyApp//Calendar 1.0//EN
BEGIN:VEVENT
METHOD:PUBLISH
UID:61488@regionalniportaly.cz
DTSTAMP:20260422T000512Z
DTSTART;VALUE=DATE:20260214
DTEND;VALUE=DATE:20260215
SUMMARY:Retro Dance Párty
DESCRIPTION:V rámci našeho největšího turné\, které bude zakončeno 20. 11. 2026 v O2 universum v Praze\, se na Valentýna vracíme do Tábora!A tentokrát hrajeme až do 03:00!&nbsp\;RETRO DANCE PÁRTY je disco ples těch největších hitů od sedmdesátých let až po milénium. Zkrátka od Abby přes Modern Talking až po Rihannu.Přijďte klidně v džínech\, ale nejlépe retro! Nejlepší dobové kostýmy budou odměněny v naší velké soutěži. Hlavní cenou jsou vstupenky na naši mega show do O2 Universum!Těšit se můžete na skvělý zvuk\, valentýnský fotokoutek a hity našeho mládí v originálních verzích.Na místě budou k dispozici vstupenky v jednotné ceně 350 Kč bez garance sezení.&nbsp\;Doba je zlá\, tak tancujme\, dokud můžeme!&nbsp\;&nbsp\;
LOCATION:Tábor
END:VEVENT
END:VCALENDAR