BEGIN:VCALENDAR
VERSION:2.0
CALSCALE:GREGORIAN
PRODID:-//MyApp//Calendar 1.0//EN
BEGIN:VEVENT
METHOD:PUBLISH
UID:59741@regionalniportaly.cz
DTSTAMP:20260422T031201Z
DTSTART;VALUE=DATE:20260215
DTEND;VALUE=DATE:20260216
SUMMARY:ISLA LOCA - BIKE O’Clock & Vašek Kolář
DESCRIPTION:Zveme vás na promítání filmu Isla Loca\, ve kterém se bikeři Ondra Šenk\, Damjan Siriški a Vašek Kolář vydali na ostrov Fuerteventura za cílem ultimátního bikového dobrodružství.Během intenzivního týdne na ostrově zažili úžasné sjezdy v sopečné krajině a prozkoumávali tajemné opuštěné komplexy v pobřežních městech. Z tohoto intenzivního&nbsp\;výletu byl vytvořen film Isla Loca\, který si budete moct za přítomnosti Ondrise\, Vashi a Damexe užít a po promítání budou kluci povídat o tom\, co všechno během tohoto bikového dobrodružství zažili a jaké peripetie museli zdolávat. Podpultových historek z tohoto projektu mají kluci dostatek a velmi rádi vám představí ultimátní bikerské hřiště\, kterým je ostrov Fuerteventura.Program:- promítání filmu Isla Loca – extrémní biking na ostrově (45min)- povídání Ondris\, Vasha&nbsp\;a Damex o natáčení filmu- soutěž o ceny- autogramiáda\, rozdávání podpisových kartiček\, merch
LOCATION:Tábor
END:VEVENT
END:VCALENDAR