BEGIN:VCALENDAR
VERSION:2.0
CALSCALE:GREGORIAN
PRODID:-//MyApp//Calendar 1.0//EN
BEGIN:VEVENT
METHOD:PUBLISH
UID:59159@regionalniportaly.cz
DTSTAMP:20260421T223436Z
DTSTART;VALUE=DATE:20251214
DTEND;VALUE=DATE:20251215
SUMMARY:Mammas & Mammas pro Hospic
DESCRIPTION:Mammas &amp\; Mammas&nbsp\;pro HospicPřijměte srdečné pozvání na adventní benefiční koncert ženského vokálního uskupení Mammas &amp\; Mammas\, jehož výtěžek bude věnován na podporu Hospice Dobrého Pastýře v Čerčanech.&nbsp\;Toto komorní těleso složené z 16 žen z různých profesí\, pod vedením sbormistryně Amálky Třebické zpívá převážně a-capella s využitím perkusí\, rytmických efektů a vlastního tělesného doprovodu.Na programu zazní jemné aranže českých\, slovenských i světových skladeb\, které vás provedou od ticha až k silným emocím — přijďte strávit předvánoční večer hudbou\, nadějí a sdílením.
LOCATION:Čerčany
END:VEVENT
END:VCALENDAR