BEGIN:VCALENDAR
VERSION:2.0
CALSCALE:GREGORIAN
PRODID:-//MyApp//Calendar 1.0//EN
BEGIN:VEVENT
METHOD:PUBLISH
UID:58392@regionalniportaly.cz
DTSTAMP:20260422T013137Z
DTSTART;VALUE=DATE:20251018
DTEND;VALUE=DATE:20251019
SUMMARY:POČIN ROKU
DESCRIPTION:POČIN ROKU18. 10. 2025&nbsp\;13:00 - 17:00POČIN ROKU se koná 18. října 2025 13:00 - 17:00.Program:šermířské představení/exhibicevýuka šermuhry:&nbsp\;metání sekerou a husitským prakemfotokoutek&nbsp\;(vyfoťte se v kostýmu princezny\, dvorní dámy nebo rytíře)filmová zbrojnice&nbsp\;s kostýmovaným průvodcem - start 13:00 konec 17:00 - prohlídka začíná vždy v celou hodinuvyhodnocení ankety&nbsp\;výrazného počinu žánru - historický šerm
LOCATION:Tábor
END:VEVENT
END:VCALENDAR