BEGIN:VCALENDAR
VERSION:2.0
CALSCALE:GREGORIAN
PRODID:-//MyApp//Calendar 1.0//EN
BEGIN:VEVENT
METHOD:PUBLISH
UID:57021@regionalniportaly.cz
DTSTAMP:20260422T031023Z
DTSTART;VALUE=DATE:20250927
DTEND;VALUE=DATE:20250928
SUMMARY:Svatý Václav osobně na Housově mlýně
DESCRIPTION:Svatý Václav osobně na Housově mlýně!&nbsp\;Přijďte strávit nezapomenutelný den ve společnosti samotného svatého Václava a jeho koně\, užít si zábavné odpoledne her a hlavně nezapomeňte ochutnat naše VÝTEČNÉ SVATOVÁCLAVSKÉ MENU:Welcome drink: medovinaPolévka: Zelňačka s klobásou a žampionyHlavní chod: Na másle pečený hovězí plátek v těstíčku\, šťouchané brambory na cibule s propečenou slaninkouDezert: Jablečný závin s rozinkami a vlašskými ořechy zdobený šlechačkou.&nbsp\;VSTUP DO AREÁLU ZDARMA\, PLACENÝ VSTUP POUZE DO FILMOVÉ ZBROJNICE na prohlídku a PLACENÉ SVATOVÁCLAVSKÉ MENU
LOCATION:Tábor
END:VEVENT
END:VCALENDAR