BEGIN:VCALENDAR
VERSION:2.0
CALSCALE:GREGORIAN
PRODID:-//MyApp//Calendar 1.0//EN
BEGIN:VEVENT
METHOD:PUBLISH
UID:56983@regionalniportaly.cz
DTSTAMP:20260422T015804Z
DTSTART;VALUE=DATE:20251018
DTEND;VALUE=DATE:20251019
SUMMARY:Stezka odvahy / TÁBOR
DESCRIPTION:Stezka odvahy míří do Tábora! 🎃👻Potkáte ty nejstrašidelnější pohádkové a nadpřirozené bytosti\, které otestují vaši odvahu a dovednosti. Připravte se na temná zákoutí a lehké tematické úkoly pro děti!Těšíme se na všechny malé i velké odvážlivce!&nbsp\;Vhodné pro děti 3 - 10 let📅 Datum: 18.10. 2025⏰ Čas: Najdete na své zakoupené vstupence📍 Místo: Lesopark Pintovka\, Tábor (ul. Lesní)🚩 Start: https://en.mapy.cz/s/havupugoduKaždých 5 minut pouštíme na stezku skupinku přibližně 5 dětí s rodiči\, které budou mezi sebou soupeřit v odvaze a dovednostech.⚠️Zakoupením vstupenky berete na vědomí a souhlasíte\, že vstupujete na trasu výhradně na vlastní nebezpečí. Za svou bezpečnost a bezpečnost svých dětí zodpovídáte sami. ⚠️
LOCATION:Tábor
END:VEVENT
END:VCALENDAR