BEGIN:VCALENDAR
VERSION:2.0
CALSCALE:GREGORIAN
PRODID:-//MyApp//Calendar 1.0//EN
BEGIN:VEVENT
METHOD:PUBLISH
UID:55989@regionalniportaly.cz
DTSTAMP:20260422T000521Z
DTSTART;VALUE=DATE:20251017
DTEND;VALUE=DATE:20251018
SUMMARY:Václav Hudeček & hosté
DESCRIPTION:Máme tu čest pozvat Vás na koncert mistra houslí\, legendy české klasické hudby – Václava Hudečka.Jeho jméno je synonymem pro virtuozitu\, hluboké muzikanství a neobyčejnou citlivost. Václav Hudeček\, který již od svých patnácti let okouzluje publikum po celém světě\, vám nabídne večer plný emocí\, technické dokonalosti a nezapomenutelné interpretace.Přijďte se nechat unést krásou tónů\, které pod jeho smyčcem ožívají s jedinečnou grácií a silou. Bude to koncert\, na který budete dlouho vzpomínat!
LOCATION:Tábor
END:VEVENT
END:VCALENDAR