BEGIN:VCALENDAR
VERSION:2.0
CALSCALE:GREGORIAN
PRODID:-//MyApp//Calendar 1.0//EN
BEGIN:VEVENT
METHOD:PUBLISH
UID:55940@regionalniportaly.cz
DTSTAMP:20260422T015604Z
DTSTART;VALUE=DATE:20251018
DTEND;VALUE=DATE:20251019
SUMMARY:Morčata na útěku a Vráťa Hošek v Chýnově
DESCRIPTION:!!&nbsp\;MORČATA NA ÚTĚKU !! PŘIJEDOU DO CHÝNOVA !!Velkej mejdan bude už v říjnu! Přesný datum je 18.10. 2025PIVO za super cenu!!AKCE NEKONČÍ BRZY! Po kapele Vás čeká ROCKOTÉKA\, takže noc bude dlouháKUP LÍSTEK V PŘEDPRODEJI - JE TO VÝHODNÝSDÍLEJ!!
LOCATION:Chýnov
END:VEVENT
END:VCALENDAR