BEGIN:VCALENDAR
VERSION:2.0
CALSCALE:GREGORIAN
PRODID:-//MyApp//Calendar 1.0//EN
BEGIN:VEVENT
METHOD:PUBLISH
UID:55808@regionalniportaly.cz
DTSTAMP:20260421T223506Z
DTSTART;VALUE=DATE:20260305
DTEND;VALUE=DATE:20260306
SUMMARY:Hvězdy swingu. Vivat Glenn Miller!
DESCRIPTION:V Kulturním a společenském centru Univerzita Tábor připravujeme&nbsp\;koncert\, kde na vás čekají vynikající ty nejkrásnější swingové a jazzové skladby od Glenna Millera po George GershwinaSwing Band Pražského salonniho orchestru (11 hudebníků)Pořadem provází\, zpívá a diriguje: Václav VomáčkaPROGRAM:Glenn MILLER/ MEDLEY - Moonlight SerenadeGlenn MILLER/ MEDLEY - Star DustGlenn MILLER/ MEDLEY - Strings of PearlsHarry Warren/ Glenn MILLER -&nbsp\; Chattanooga Choo ChooHarry Warren/ Glenn MILLER -&nbsp\; At LastSyd WYCHE/ Mayme Watts - All Right\, O.K.Joe Garland/ Glenn MILLER - In The MoodIrving BERLIN - Alexander´s Ragtime BandGeorge GERSHWIN - They can´t take that away from meGeorge GERSHWIN - SummertimeCole PORTER - Too Darn HotBob THIELE - What A Wonderful WorldDuke ELLINGTON - CaravanKamil BĚHOUNEK - Má láska je jazzdélka: 75 minut bez přestávky
LOCATION:Tábor
END:VEVENT
END:VCALENDAR