BEGIN:VCALENDAR
VERSION:2.0
CALSCALE:GREGORIAN
PRODID:-//MyApp//Calendar 1.0//EN
BEGIN:VEVENT
METHOD:PUBLISH
UID:55058@regionalniportaly.cz
DTSTAMP:20260422T031424Z
DTSTART;VALUE=DATE:20251018
DTEND;VALUE=DATE:20251019
SUMMARY:Disko duní Táborem
DESCRIPTION:DDT&nbsp\; nebo-li Disko Duní Táborem.56 let diskoték na Táborsku.Jedinečná dikotéková Retroshow.Nejlepší muziku desetiletí nabídnou legendární táborští diskžokejové: Luboš Fany Faic\, Zdeněk Zdenda Veselý\, Milan Bílek\, Daniel Čechtický\, Dan Dobiáš - Groove Dan\, Roman Máj nebo Tomáš Hlava a Martin Hrdinka.Večer začíná ve 20 hodin ve spolkovém domě Střelnice v Táboře.Open 19:30 hod.Cena v předrpodeji:340 Kč - na stání370 Kč - na sezení450 Kč - na místěTato ojedinělá akce mohla vzniknout za podpory dotačního programu&nbsp\; města Tábor v oblasti kultury. "Financováno z rozpočtu města Tábor - MKP
LOCATION:Tábor
END:VEVENT
END:VCALENDAR