BEGIN:VCALENDAR
VERSION:2.0
CALSCALE:GREGORIAN
PRODID:-//MyApp//Calendar 1.0//EN
BEGIN:VEVENT
METHOD:PUBLISH
UID:53091@regionalniportaly.cz
DTSTAMP:20260422T043124Z
DTSTART;VALUE=DATE:20250830
DTEND;VALUE=DATE:20250831
SUMMARY:Epoque Quartet – nový projekt Lidovque
DESCRIPTION:Nenechte si ujít koncert táborského oblíbence v jeho novém\, fascinujícím projektu! Tentokrát se soubor ponoří do světa lidové hudby a představí její originální a mistrovské úpravy z dílny violisty Alexe Aslamase. Jeho nápady snesou ta nejpřísnější kritéria a slibují opravdovou hudební radost. Součástí večera bude i příjemná ochutnávka vín a další hudební vystoupení.
LOCATION:Tábor
END:VEVENT
END:VCALENDAR