BEGIN:VCALENDAR
VERSION:2.0
CALSCALE:GREGORIAN
PRODID:-//MyApp//Calendar 1.0//EN
BEGIN:VEVENT
METHOD:PUBLISH
UID:52773@regionalniportaly.cz
DTSTAMP:20260422T030301Z
DTSTART;VALUE=DATE:20251017
DTEND;VALUE=DATE:20251018
SUMMARY:Maturitní ples - 4Lb - SPŠ Tábor
DESCRIPTION:Třída 4Lb&nbsp\;vás všechny zve na maturák v rytmu Brazílie\, kde společně prožijeme nezapomenutelnou noc plnou samby\, barev a karnevalové energie! Připravte se na tropickou atmosféru a vášeň\, která roztančí celý večer!
LOCATION:Tábor
END:VEVENT
END:VCALENDAR