BEGIN:VCALENDAR
VERSION:2.0
CALSCALE:GREGORIAN
PRODID:-//MyApp//Calendar 1.0//EN
BEGIN:VEVENT
METHOD:PUBLISH
UID:52653@regionalniportaly.cz
DTSTAMP:20260422T052757Z
DTSTART;VALUE=DATE:20250426
DTEND;VALUE=DATE:20250427
SUMMARY:Vtípečky v Táboře // Stand-up show
DESCRIPTION:Vtípečky se zelím přináší ty nejvypečenější komiky nové generace.Čtveřice vystupujících vám naservíruje to nejčerstvější\, co napekli za poslední dobu.&nbsp\;&nbsp\;Své vtipy jako na podnose přinesou:Lukáš Kaňka&nbsp\;Lukáš Tomčal&nbsp\;Denis Doležel&nbsp\;Šimon Fusatý&nbsp\;
LOCATION:Tábor
END:VEVENT
END:VCALENDAR