BEGIN:VCALENDAR
VERSION:2.0
CALSCALE:GREGORIAN
PRODID:-//MyApp//Calendar 1.0//EN
BEGIN:VEVENT
METHOD:PUBLISH
UID:52509@regionalniportaly.cz
DTSTAMP:20260422T072836Z
DTSTART;VALUE=DATE:20250607
DTEND;VALUE=DATE:20250608
SUMMARY:Pohádková stezka /  TÁBOR
DESCRIPTION:Nejoblíbenější pohádková stezka míří do Tábora!&nbsp\;Potkejte své oblíbené pohádkové kamarády!Na trase vás čekají zábavné úkoly pro děti a také setkání s vašimi oblíbenými pohádkovými kamarády\, jako jsou hrdinové z Tlapkové patroly\, Ledového království\, Máši a medvěda\, králíčka Binga a mnoha dalších\, které vaše děti zbožňují. ♥Vhodné pro děti ve věku 2–7 letDatum: 07. 06. 2025Čas: Najdete na své zakoupené vstupenceMísto: Lesopark Pintovka\, Tábor (ul. Lesní)Start: https://en.mapy.cz/s/havupugodu(Děti do 12 měsíců ZDARMA)Po příchodu se prosím zaregistrujte u našeho stánku.&nbsp\;
LOCATION:Tábor
END:VEVENT
END:VCALENDAR