BEGIN:VCALENDAR
VERSION:2.0
CALSCALE:GREGORIAN
PRODID:-//MyApp//Calendar 1.0//EN
BEGIN:VEVENT
METHOD:PUBLISH
UID:52351@regionalniportaly.cz
DTSTAMP:20260422T015859Z
DTSTART;VALUE=DATE:20251206
DTEND;VALUE=DATE:20251207
SUMMARY:Premiéra filmu Changewyx\, hotel Akademie Naháč
DESCRIPTION:Celosvětová premiéra filmu Changewyx\,proběhne na více než 5.000 místech a očekáváme návštěvu více než 1.000.000 diváků.Jedním z míst premiéry\, která proběhne v českém jazyce je hotel Akademie Naháč.https://youtu.be/laFnpnIJgu0&nbsp\;&nbsp\;Animovaný americký film popisuje příběh zpěváka Davida\, který je závislý na mobilním telefonu a proto se k druhým chová škaredě. David se dostane do problémů a prosím druhé o pomoc. Diváci pomocí hlasování rozhodují zda se pomůže nebo.
LOCATION:Chocerady
END:VEVENT
END:VCALENDAR