BEGIN:VCALENDAR
VERSION:2.0
CALSCALE:GREGORIAN
PRODID:-//MyApp//Calendar 1.0//EN
BEGIN:VEVENT
METHOD:PUBLISH
UID:51811@regionalniportaly.cz
DTSTAMP:20260422T041302Z
DTSTART;VALUE=DATE:20250425
DTEND;VALUE=DATE:20250426
SUMMARY:Disko Night Village Dražice
DESCRIPTION:AHOJzveme Vás na disko&nbsp\;Night Village party do KD Dražice\, tak kupte vstupenku\, vezměte&nbsp\;kamarády a neváhejte přijít!• vstupné v předprodeji 150Kč / na místě 180Kč• vstup 15+• \,\,HAPPY HOUR” 22:00-23:00 panák za 15\,-• DJ Honza Pinc
LOCATION:Dražice
END:VEVENT
END:VCALENDAR