BEGIN:VCALENDAR
VERSION:2.0
CALSCALE:GREGORIAN
PRODID:-//MyApp//Calendar 1.0//EN
BEGIN:VEVENT
METHOD:PUBLISH
UID:51644@regionalniportaly.cz
DTSTAMP:20260422T053123Z
DTSTART;VALUE=DATE:20250412
DTEND;VALUE=DATE:20250413
SUMMARY:Divadelní představení - Událost sezony
DESCRIPTION:Ochotnický divadelní spolek Nechvalice Vás srdečně zve na divadelní představení UDÁLOST SEZÓNY. Přijďte se podívat na netradiční zpracování nejznámější a nejslavnější tragédie všech dob - Hamlet od Williama Shakespeara. Toto představení je jiný a originální pohled na tragédii formou komedie.&nbsp\;\n\n\n\nNa představení se podíleli:\n\nÚčinkující: Marek Procházka\, Stanislav Král\, Miroslav Lalák\, Josef Zelenka\, Jiří Lalák\, Ludmila Burdová\,Jiří Kváča\, Tereza Kuchařová\, Karolína Sadecká\, Adéla Laláková\, Dorota Laláková\, Viktorie Laláková\, Josef Davídek\, Antonín Davídek\, Andrea Martínková\, Lucie Martínková\, Lenka Martínková\, Iveta Váchová&nbsp\;&nbsp\;Úpravy a režie: Ludmila Zrůbková
LOCATION:Sedlčany
END:VEVENT
END:VCALENDAR