BEGIN:VCALENDAR
VERSION:2.0
CALSCALE:GREGORIAN
PRODID:-//MyApp//Calendar 1.0//EN
BEGIN:VEVENT
METHOD:PUBLISH
UID:50910@regionalniportaly.cz
DTSTAMP:20260422T060910Z
DTSTART;VALUE=DATE:20250606
DTEND;VALUE=DATE:20250607
SUMMARY:POPELKA I Sedlčany
DESCRIPTION:​POPELKAKlasický příběh plný dobra a lásky ožívá na jevišti.Věříme\, že i dětská divadelní scéna musí umět nadchnout\, a proto je toto představení plné kouzel\, přímého zapojení dětí\, živého zpěvu\, krásných kostýmů\, choreografií a&nbsp\;dekorací.Interaktivní muzikálová pohádka Popelka vtáhne do děje každého (nejen) malého diváka.&nbsp\;Co vás zaručeně nadchne:Přímo před vašima očima se během několika vteřin Popelčiny šaty proměnění v nádhernou róbu.Z&nbsp\;plných plic se zasmějete&nbsp\;spolu s&nbsp\;neohrabanými a chamtivými nevlastními sestrami Popelky.Budete pomáhat milým myšákům třídit hrách a čočku\, kterou macecha rozhází po celém sále.Uvidíte\, jak se obyčejná dýně promění v&nbsp\;opravdový kočár.A možná si i vyzkoušet Popelčin&nbsp\;křišťálový střevíček.&nbsp\;&nbsp\; &nbsp\; &nbsp\; &nbsp\; &nbsp\; &nbsp\; &nbsp\; &nbsp\; &nbsp\; &nbsp\; **** Malý&nbsp\;DÁREK&nbsp\;ke každé dětské vstupence ZDARMA.&nbsp\; &nbsp\; &nbsp\; &nbsp\; &nbsp\; &nbsp\; &nbsp\; &nbsp\; &nbsp\; &nbsp\; &nbsp\; &nbsp\; &nbsp\; &nbsp\; &nbsp\; &nbsp\; &nbsp\; &nbsp\; &nbsp\; &nbsp\; &nbsp\; &nbsp\; &nbsp\;&nbsp\;Pouze v rámci časově omezené akce jen do 26.4.2025&nbsp\; &nbsp\; &nbsp\; &nbsp\; &nbsp\; &nbsp\; &nbsp\; &nbsp\; &nbsp\; &nbsp\; &nbsp\; &nbsp\; &nbsp\; &nbsp\; &nbsp\; &nbsp\;V&nbsp\;ceně vstupenky získáte:60 minutové&nbsp\;muzikálové představení se&nbsp\;zapojením dětí.Dárek*&nbsp\;od Popelky k&nbsp\;dětské vstupence – přívěšek na krk pro dívky&nbsp\;a drobná hračka pro chlapce.Focení v&nbsp\;opravdovém kočáře&nbsp\;přímo na pódiu.Osobní setkání a možnost&nbsp\;focení s&nbsp\;krásnou Popelkou i s ostatními postavami.Vyzýváme všechny princezny a prince\, aby se oblékli do krásných šatů a svou návštěvou nás poctili. Pojďme společně oživit tento krásný příběh!&nbsp\;&nbsp\;&nbsp\;*Dárek ke vstupence je v&nbsp\;rámci časově omezené akce. Pořadatel si vyhrazuje právo akci kdykoliv zastavit.
LOCATION:Sedlčany
END:VEVENT
END:VCALENDAR