BEGIN:VCALENDAR
VERSION:2.0
CALSCALE:GREGORIAN
PRODID:-//MyApp//Calendar 1.0//EN
BEGIN:VEVENT
METHOD:PUBLISH
UID:50215@regionalniportaly.cz
DTSTAMP:20260422T054152Z
DTSTART;VALUE=DATE:20250221
DTEND;VALUE=DATE:20250222
SUMMARY:ECSTATIC DANCE - DJ Petr Douša
DESCRIPTION:Přijďte se uvolnit\, načerpat svěží energii a dobrou náladu.&nbsp\; Jde o spontánní tanec\, kde se můžeme svobodě vyjádřit a rozhýbat naše tělo i duši. Příjemné prostředí bez alkoholu\, krásná hudba z celého světa\, milá společnost podobně naladěných lidí. Vhodné pro každého\, není potřeba předem nic umět. Těšíme se na vás!&nbsp\;PRŮBĚH VEČERA18:00 Úvodní kruh\, vysvětlení Ecstatic Dance18:15 Ecstatic Dance - DJ Petr Douša20:45 Závěrečné sdílení&nbsp\;Po skončení jste vítáni pobýt spolu u dobrého čaje.&nbsp\;PRAVIDLA ECSTATIC DANCEČistota prožitku. Tančíme bez vlivu alkoholu a drog.Bezpečný prostor. Během tance se nepořizují fotky ani videa.Hluboký prožitek. Při tanci nemluvíme\, slova nás z prožitku vytrhují.Tančíme naboso.&nbsp\;DJ PETR DOUŠAPetr miluje tanec odjakživa. Tančil na divokých freeparties v devadesátkách\, s milionem lidí na Love Parade\, v poušti na Burning Manu a v posledních letech je jeho vášní Ecstatic Dance. Prošel tříletým výcvikem Cesta Tančícího Srdce u Guye Barringtona. Ve svém setu s velmi pestrou hudbou různých žánrů vás provede vnitřní cestou\, která může být velmi uvolňující\, osvěžující\, příjemná a léčivá.&nbsp\;VystupujícíPetr Douša (CZ) –&nbsp\;fb
LOCATION:Tábor
END:VEVENT
END:VCALENDAR