BEGIN:VCALENDAR
VERSION:2.0
CALSCALE:GREGORIAN
PRODID:-//MyApp//Calendar 1.0//EN
BEGIN:VEVENT
METHOD:PUBLISH
UID:50190@regionalniportaly.cz
DTSTAMP:20260422T083754Z
DTSTART;VALUE=DATE:20250418
DTEND;VALUE=DATE:20250419
SUMMARY:Hovory ze země naživo
DESCRIPTION:Hovory ze země naživosetkání s lidmi co mají rádi Hovory ze země---Jak je to s naší historií? Skutečně existují viry? Kde to žijeme?... a mnoho dalšího budeme probírat v 6 městech po celé ČR:Jste srdečně zváni. Přijďte si popovídat s našimi hosty.---Programem provází: Marek JelínekV Táboře&nbsp\;budou besedovat tito hosté:&nbsp\;Petr Lukeš\, Zuzi Czech\, Ivo Novosad a MUDr. Monika Waksmundská.---V Táboře&nbsp\;je volné sezení\, vstupenka neobsahuje místenku.Sál bude otevřený 30 minut před zahájením a bude te si moci vybrat místo k sezení. Přijďte včas \;-)Začátek: 18:00 hod.Předpokládaný konec: 21:00 hod- - -&nbsp\;DŮLEŽITÉ UPOZORNĚNÍ:Vstupenka je po nákupu nevratná.&nbsp\;Pokud ji nemůžete využít\, je možné ji předat jiné osobě.&nbsp\;Na akci mohou být pořizovány fotografie nebo audiovizuální záznamy. Zakoupením vstupenky dáváte najevo svůj souhlas s focením a nahráváním vaší osoby.&nbsp\;
LOCATION:Tábor
END:VEVENT
END:VCALENDAR