BEGIN:VCALENDAR
VERSION:2.0
CALSCALE:GREGORIAN
PRODID:-//MyApp//Calendar 1.0//EN
BEGIN:VEVENT
METHOD:PUBLISH
UID:50111@regionalniportaly.cz
DTSTAMP:20260422T060612Z
DTSTART;VALUE=DATE:20250608
DTEND;VALUE=DATE:20250609
SUMMARY:3. ročník MIMIFest
DESCRIPTION:Již 3. ročník táborského rodinného festivalu MIMIFest je tady!Přijďte si užít zábavné rodinné odpoledne do areálu MIMIKafe v Táboře!Mezi hlavní vystupující letošního ročníku jsme zařadili Káju a Bambuláčka a BibiBum!
LOCATION:Tábor
END:VEVENT
END:VCALENDAR