BEGIN:VCALENDAR
VERSION:2.0
CALSCALE:GREGORIAN
PRODID:-//MyApp//Calendar 1.0//EN
BEGIN:VEVENT
METHOD:PUBLISH
UID:49279@regionalniportaly.cz
DTSTAMP:20260422T000433Z
DTSTART;VALUE=DATE:20251216
DTEND;VALUE=DATE:20251217
SUMMARY:Jakub Smolík - Vánoční koncert
DESCRIPTION:Jakub Smolík - vánoční koncert s kapelou v hotelu Palcát v Táboře v úterý 16. prosince 2025.Můžete se těšit na vánoční písně i největší hity\, promítání\, vtipné historky\, prostě večer plný písní a zábavy.
LOCATION:Tábor
END:VEVENT
END:VCALENDAR