BEGIN:VCALENDAR
VERSION:2.0
CALSCALE:GREGORIAN
PRODID:-//MyApp//Calendar 1.0//EN
BEGIN:VEVENT
METHOD:PUBLISH
UID:48326@regionalniportaly.cz
DTSTAMP:20260422T031131Z
DTSTART;VALUE=DATE:20250613
DTEND;VALUE=DATE:20250614
SUMMARY:Retro party - HOLKI + LUNETIC
DESCRIPTION:Přijďte si užít spolu se svými kamarády retro party na Kopeček! V Táboře pro Vás na parkovišti v MIMIKafe vystoupí legendární kapely HOLKI a LUNETIC!Vstup do areálu bude umožněn od 16:30 hodin.Děti do 12 let a ZTP po předložení průkazu mají vstup ZDARMA.
LOCATION:Tábor
END:VEVENT
END:VCALENDAR