BEGIN:VCALENDAR
VERSION:2.0
CALSCALE:GREGORIAN
PRODID:-//MyApp//Calendar 1.0//EN
BEGIN:VEVENT
METHOD:PUBLISH
UID:48321@regionalniportaly.cz
DTSTAMP:20260422T044045Z
DTSTART;VALUE=DATE:20250412
DTEND;VALUE=DATE:20250413
SUMMARY:Floyds CZ/SK
DESCRIPTION:Skvělá\, téměř tříhodinová audio-vizuální show je naplněna nadčasovou hudbou Pink Floyd a inspirovaná turné PULSE 94'. Nechte se vtáhnout do magického světa rockové legendy. Dokonalé hudební ztvárnění plné energie\, projekce\, lasery\, světelné efekty\, profesionální zvuk - to vše vytváří neopakovatelnou atmosféru a hluboký zážitek pro diváky napříč všemi generacemi.Sál bude zpřístupněn od 18&nbsp\;hod\, koncert začíná v 19:00\, s přestávkou na občerstvení.O kapele&nbsp\;Floyds CZ/SK:10&nbsp\;členný výběr top muzikantů hrající&nbsp\;skladby&nbsp\;Pink Floyd s cílem o maximální věrnost interpretace i atmosféry.&nbsp\;&nbsp\;Členové kapely se dlouho „krystalizovali“ z toho nejlepšího co česká i slovenská scéna nabízí a mohou se opřít o dlouholeté zkušenosti nejen na evropské úrovni\, ale i na turné po USA.&nbsp\;Můžete se také těšit na okouzlující projev špičkových vokalistek okořeněný&nbsp\;věrnou choreografií inspirující se&nbsp\;posledním celosvětovým turné PULSE z r. 1994\, které nedávno oslavilo své 30 výročí.Propracovaná vizuální show je plná světelných efektů je zasazena do krásného a pohodlého prostředí kulturního domu.
LOCATION:Tábor
END:VEVENT
END:VCALENDAR