BEGIN:VCALENDAR
VERSION:2.0
CALSCALE:GREGORIAN
PRODID:-//MyApp//Calendar 1.0//EN
BEGIN:VEVENT
METHOD:PUBLISH
UID:44191@regionalniportaly.cz
DTSTAMP:20260422T053826Z
DTSTART;VALUE=DATE:20240817
DTEND;VALUE=DATE:20240818
SUMMARY:Memoriál generála Custera
DESCRIPTION:Unikátní a jedinečná show pod vedením známého herce Václava Vydry. Ve Všeticích u Benešova můžete zažít jedinečnou atmosféru doby\, kdy Divoký západ brázdily legnedární Sedmá kavalerie. Atmosféra více jak&nbsp\; stovky koní\, hudební vystoupení\, ukázky výcviku kavalerie\, život Indiánů. Vše vyvrcholí incenovanou Bitvou u Big Littehornu nazvanou "Smrt generála". V hlavní roli s Václavem Vydrou\, který představuje legendární postavu generála Custera.Roli vypravěče a průvodcem celého příběhu zahrál známý herec Jan Šťastný.V incenaci uvidíte desítky kostýmovaných účinkujícíh a samozřejmě i desítky koní. Přijďte se podívat.&nbsp\;
LOCATION:Netvořice
END:VEVENT
END:VCALENDAR