BEGIN:VCALENDAR
VERSION:2.0
CALSCALE:GREGORIAN
PRODID:-//MyApp//Calendar 1.0//EN
BEGIN:VEVENT
METHOD:PUBLISH
UID:44158@regionalniportaly.cz
DTSTAMP:20260422T053914Z
DTSTART;VALUE=DATE:20240924
DTEND;VALUE=DATE:20240925
SUMMARY:Sirény na cestách
DESCRIPTION:
LOCATION:Sedlčany
END:VEVENT
END:VCALENDAR