BEGIN:VCALENDAR
VERSION:2.0
CALSCALE:GREGORIAN
PRODID:-//MyApp//Calendar 1.0//EN
BEGIN:VEVENT
METHOD:PUBLISH
UID:44137@regionalniportaly.cz
DTSTAMP:20260422T053957Z
DTSTART;VALUE=DATE:20241128
DTEND;VALUE=DATE:20241129
SUMMARY:Anna K. Údolí včel tour 2024
DESCRIPTION:
LOCATION:Kamenice
END:VEVENT
END:VCALENDAR