BEGIN:VCALENDAR
VERSION:2.0
CALSCALE:GREGORIAN
PRODID:-//MyApp//Calendar 1.0//EN
BEGIN:VEVENT
METHOD:PUBLISH
UID:42779@regionalniportaly.cz
DTSTAMP:20260422T070609Z
DTSTART;VALUE=DATE:20241212
DTEND;VALUE=DATE:20241213
SUMMARY:Jakub Smolík - vánoční koncert
DESCRIPTION:Jakub Smolík - vánoční koncert s kapelou v hotelu Palcát v Táboře ve čtvrtek 12. prosince 2024. Můžete se těšit na vánoční písně i největší hity\, promítání\, vtipné historky\, prostě večer plný písní a zábavy. Začátek koncertu v 19 hodin. Vstupné na místě 590 Kč.
LOCATION:Tábor
END:VEVENT
END:VCALENDAR