BEGIN:VCALENDAR
VERSION:2.0
CALSCALE:GREGORIAN
PRODID:-//MyApp//Calendar 1.0//EN
BEGIN:VEVENT
METHOD:PUBLISH
UID:42530@regionalniportaly.cz
DTSTAMP:20260422T054016Z
DTSTART;VALUE=DATE:20240619
DTEND;VALUE=DATE:20240620
SUMMARY:Laco Deczi & Celula New York
DESCRIPTION:Legendární trumpetista\, žijící již mnoho let v USA\, přijíždí opět do České republiky. Plníme si sen velkého koncertu u nás v Kamenáči v Milevsku\, a zveme Laca i s kapelou na naše malé ale útulné podium na zahrádce.&nbsp\;Od svého vstupu na profesionální hudební scénu před více než padesáti lety byl Laco Deczi jejím enfant terrible a punc výjimečnosti mu zůstal dodnes. Navzdory tehdy převládajícímu West Coast jazzu začal prosazovat explozivní hard bop podle svého velkého vzoru Clifforda Browna. Tento styl později spojil do působivé symbiózy s elektrickou jazz-rockovou fúzí Milese Davise\, v jejímž duchu se odvíjí Decziho hudba dodnes.
LOCATION:Milevsko
END:VEVENT
END:VCALENDAR