BEGIN:VCALENDAR
VERSION:2.0
CALSCALE:GREGORIAN
PRODID:-//MyApp//Calendar 1.0//EN
BEGIN:VEVENT
METHOD:PUBLISH
UID:42385@regionalniportaly.cz
DTSTAMP:20260422T002139Z
DTSTART;VALUE=DATE:20240510
DTEND;VALUE=DATE:20240511
SUMMARY:Představení: Ráno poté
DESCRIPTION:
LOCATION:Sedlčany
END:VEVENT
END:VCALENDAR