BEGIN:VCALENDAR
VERSION:2.0
CALSCALE:GREGORIAN
PRODID:-//MyApp//Calendar 1.0//EN
BEGIN:VEVENT
METHOD:PUBLISH
UID:42382@regionalniportaly.cz
DTSTAMP:20260422T001527Z
DTSTART;VALUE=DATE:20240505
DTEND;VALUE=DATE:20240506
SUMMARY:Čtyřlístek a talisman moci
DESCRIPTION:
LOCATION:Sedlčany
END:VEVENT
END:VCALENDAR