BEGIN:VCALENDAR
VERSION:2.0
CALSCALE:GREGORIAN
PRODID:-//MyApp//Calendar 1.0//EN
BEGIN:VEVENT
METHOD:PUBLISH
UID:42381@regionalniportaly.cz
DTSTAMP:20260422T000451Z
DTSTART;VALUE=DATE:20240513
DTEND;VALUE=DATE:20240516
SUMMARY:Věc Makropulos
DESCRIPTION:
LOCATION:Sedlčany
END:VEVENT
END:VCALENDAR