BEGIN:VCALENDAR
VERSION:2.0
CALSCALE:GREGORIAN
PRODID:-//MyApp//Calendar 1.0//EN
BEGIN:VEVENT
METHOD:PUBLISH
UID:40179@regionalniportaly.cz
DTSTAMP:20260422T001449Z
DTSTART;VALUE=DATE:20251015
DTEND;VALUE=DATE:20251016
SUMMARY:HALINA PAWLOWSKÁ - Manuál zralé ženy | Sedlčany
DESCRIPTION:HALINA PAWLOWSKÁ - MANUÁL ZRALÉ ŽENYJedinečná talk-show Haliny Pawlowské míří do Sedlčan!Halina Pawlowská je spisovatelka a scénáristka\, ale i výborná vypravěčka. Její zájezdové pořady jsou nabité humorem a nebrání se ani diskuzím s přítomným publikem. Její pořady mají výborný divácký ohlas.Jedinečná talk-show Haliny Pawlowské - MANUÁL ZRALÉ ŽENYChcete být obletovaná\, krásná\, věčně mladá? Poslechněte si milostné příběhy\, které vás inspirují\, zasmějte se erotickým zkušenostem ostatních\, samy se zeptejte na všechno\, co vás zajímá a nechte si poradit! A hlavně se přijďte zasmát!Manuál zralé ženy je určen ženám od dvanácti do sta let\, je ale i pro muže\, protože právě díky manuálu budou lépe rozumět svým partnerkám a možná i sami sobě. Není nic špatného na tom být zralá žena\, i když slovo "zralá" mi připomíná sýr\, u kterého je nejvyšší čas ho zkonzumovat…Zralost je báječná! Buď z toho důvodu\, že si můžete gratulovat\, že jste se dožili už pěkného počtu let\, a nebo proto\, že jste sice ještě velice mladí\, ale jste jedinci s moudrým pohledem na svět.
LOCATION:Sedlčany
END:VEVENT
END:VCALENDAR