BEGIN:VCALENDAR
VERSION:2.0
CALSCALE:GREGORIAN
PRODID:-//MyApp//Calendar 1.0//EN
BEGIN:VEVENT
METHOD:PUBLISH
UID:39302@regionalniportaly.cz
DTSTAMP:20260422T044013Z
DTSTART;VALUE=DATE:20240406
DTEND;VALUE=DATE:20240407
SUMMARY:Cesta kolem světa za 80 dní
DESCRIPTION:poslední představení
LOCATION:Sedlčany
END:VEVENT
END:VCALENDAR