BEGIN:VCALENDAR
VERSION:2.0
CALSCALE:GREGORIAN
PRODID:-//MyApp//Calendar 1.0//EN
BEGIN:VEVENT
METHOD:PUBLISH
UID:38866@regionalniportaly.cz
DTSTAMP:20260422T003435Z
DTSTART;VALUE=DATE:20240521
DTEND;VALUE=DATE:20240522
SUMMARY:Vojtěch Dyk s klavírním doprovodem
DESCRIPTION:Vojtěch Dyk míří do Tábora!Jeden z nejvýraznějších hudebních talentů současnosti.&nbsp\;Sólový koncert Vojtěcha Dyka s živým klavírním doprovodem. S repertoárem písní autorských\, převzatých\, českých i zahraničních\, popových\, šansonovitých\, muzikálových\, ale i žánru klasického.Klavírní doprovod Jan Maxián (Jan Uvíra)
LOCATION:Tábor
END:VEVENT
END:VCALENDAR