BEGIN:VCALENDAR
VERSION:2.0
CALSCALE:GREGORIAN
PRODID:-//MyApp//Calendar 1.0//EN
BEGIN:VEVENT
METHOD:PUBLISH
UID:38857@regionalniportaly.cz
DTSTAMP:20260422T031249Z
DTSTART;VALUE=DATE:20240130
DTEND;VALUE=DATE:20240131
SUMMARY:Hrdý Budžes
DESCRIPTION:
LOCATION:Sedlčany
END:VEVENT
END:VCALENDAR