BEGIN:VCALENDAR
VERSION:2.0
CALSCALE:GREGORIAN
PRODID:-//MyApp//Calendar 1.0//EN
BEGIN:VEVENT
METHOD:PUBLISH
UID:38523@regionalniportaly.cz
DTSTAMP:20260422T014117Z
DTSTART;VALUE=DATE:20240429
DTEND;VALUE=DATE:20240430
SUMMARY:Nohy Vzhůru | Tábor
DESCRIPTION:Bláznivá komedie s kriminální zápletkou.Mandy a Tania\, dvě krásné tanečnice z nočního klubu v londýnském Soho\, se dostaly do svízelné situace. Co se stane\, až se nesmlouvavý majitel klubu Velký Mack dozví\, že Mandy má aférku s Gerrym a Tania zase s Terrym a pošle na ně své kumpány? A co se stane\, až se dozví\, že nejde jenom o aférky jeho tanečnic\, ale také o velké peníze?Délka představení 2 hodiny s přestávkouRežie&nbsp\;Antonín ProcházkaPřeklad&nbsp\;A. Jerie&nbsp\;a&nbsp\;B. PešinováKostýmy&nbsp\;Lenka PoláškováVýprava&nbsp\;JT PROMOTION s.r.o.Hrají&nbsp\;Martin Zounar\,&nbsp\;Martin Kraus\,&nbsp\;Jiří Štrébl\,&nbsp\;Markéta Schimmerová Procházková\,&nbsp\;Kateřina Sedláková-Pechová\,&nbsp\;Robert Hájek
LOCATION:Tábor
END:VEVENT
END:VCALENDAR