BEGIN:VCALENDAR
VERSION:2.0
CALSCALE:GREGORIAN
PRODID:-//MyApp//Calendar 1.0//EN
BEGIN:VEVENT
METHOD:PUBLISH
UID:37587@regionalniportaly.cz
DTSTAMP:20260421T225513Z
DTSTART;VALUE=DATE:20231214
DTEND;VALUE=DATE:20231215
SUMMARY:Blue Orchestra
DESCRIPTION:
LOCATION:Sedlčany
END:VEVENT
END:VCALENDAR