BEGIN:VCALENDAR
VERSION:2.0
CALSCALE:GREGORIAN
PRODID:-//MyApp//Calendar 1.0//EN
BEGIN:VEVENT
METHOD:PUBLISH
UID:37577@regionalniportaly.cz
DTSTAMP:20260421T225739Z
DTSTART;VALUE=DATE:20240328
DTEND;VALUE=DATE:20240329
SUMMARY:ŠVANCI - JÁ SU JÁ SHOW
DESCRIPTION:Show "JÁ SU JÁ" exkluzivně ve speciální limitované tour po&nbsp\;České republice.Čekají vás historky o mém životě\, prostor na otázky na tělo\, autogramiáda\, focení a mnoho dalšího.Jak moc dobře mě znáš? Víš s čím jsem si hrál jako malej kluk?Co jsem ještě neřekl o Survivoru? Jaká byla moje profesionální kariéra fotbalisty?Nejen to se dozvíš ve zbrusu nové zábavné show "JÁ SU JÁ".Přijď se podívat a užít si legraci\, popovídat si s legendou fotbalu\, moderátorem\, bavičem a dát si třeba fotku\, nebo si nechat cokoliv podepsat.&nbsp\;www.standupshow.cz/svanci
LOCATION:Tábor
END:VEVENT
END:VCALENDAR