BEGIN:VCALENDAR
VERSION:2.0
CALSCALE:GREGORIAN
PRODID:-//MyApp//Calendar 1.0//EN
BEGIN:VEVENT
METHOD:PUBLISH
UID:37490@regionalniportaly.cz
DTSTAMP:20260422T003050Z
DTSTART;VALUE=DATE:20231205
DTEND;VALUE=DATE:20231206
SUMMARY:Nejúspěšnější česká travesti show Techtle Mechtle - nová Vánoční show 2023
DESCRIPTION:
LOCATION:Sedlčany
END:VEVENT
END:VCALENDAR