BEGIN:VCALENDAR
VERSION:2.0
CALSCALE:GREGORIAN
PRODID:-//MyApp//Calendar 1.0//EN
BEGIN:VEVENT
METHOD:PUBLISH
UID:36314@regionalniportaly.cz
DTSTAMP:20260422T002317Z
DTSTART;VALUE=DATE:20231209
DTEND;VALUE=DATE:20231210
SUMMARY:Vánoční mejdan Totální nasazení\,Peshata\,Deratizéři
DESCRIPTION:Připravte se na nezapomenutelný Vánoční mejdan! Po roční odmlce se vracíme s nejlepšími kapelami včetně Totálního nasazení\, Peshaty\, Deratizérů a KD Nechvalice. Datum: 9. prosince 2023. Předprodej lístků již zahájen. Přijďte si užít vánoční zábavu na plné pecky!&nbsp\;
LOCATION:Sedlčany
END:VEVENT
END:VCALENDAR